BEGIN:VCALENDAR
VERSION:2.0
PRODID:-//Ukrainian Association of Washington State - ECPv6.10.0//NONSGML v1.0//EN
CALSCALE:GREGORIAN
METHOD:PUBLISH
X-WR-CALNAME:Ukrainian Association of Washington State
X-ORIGINAL-URL:https://uaws.org/ua
X-WR-CALDESC:Events for Ukrainian Association of Washington State
REFRESH-INTERVAL;VALUE=DURATION:PT1H
X-Robots-Tag:noindex
X-PUBLISHED-TTL:PT1H
BEGIN:VTIMEZONE
TZID:America/Los_Angeles
BEGIN:DAYLIGHT
TZOFFSETFROM:-0800
TZOFFSETTO:-0700
TZNAME:PDT
DTSTART:20240310T100000
END:DAYLIGHT
BEGIN:STANDARD
TZOFFSETFROM:-0700
TZOFFSETTO:-0800
TZNAME:PST
DTSTART:20241103T090000
END:STANDARD
END:VTIMEZONE
BEGIN:VEVENT
DTSTART;TZID=America/Los_Angeles:20240828T190000
DTEND;TZID=America/Los_Angeles:20240828T220000
DTSTAMP:20260425T080857
CREATED:20240620T013933Z
LAST-MODIFIED:20240620T013933Z
UID:2649-1724871600-1724882400@uaws.org
SUMMARY:[:en]TNMK | Seattle | Танок на майдані Конґо[:]
DESCRIPTION:Вибачте цей текст доступний тільки в “English”.
URL:https://uaws.org/ua/event/tnmk-seattle-usa-tour/
LOCATION:Club SUR\, 2901 1st Ave S\, Seattle\, WA\, 98134\, United States
CATEGORIES:Concert
ATTACH;FMTTYPE=image/jpeg:https://uaws.org/wp-content/uploads/2024/06/448026553_1085477116442041_5818986923000673617_n-1.jpg
END:VEVENT
END:VCALENDAR