BEGIN:VCALENDAR
VERSION:2.0
PRODID:-//Ukrainian Association of Washington State - ECPv6.10.0//NONSGML v1.0//EN
CALSCALE:GREGORIAN
METHOD:PUBLISH
X-WR-CALNAME:Ukrainian Association of Washington State
X-ORIGINAL-URL:https://uaws.org/ua
X-WR-CALDESC:Events for Ukrainian Association of Washington State
REFRESH-INTERVAL;VALUE=DURATION:PT1H
X-Robots-Tag:noindex
X-PUBLISHED-TTL:PT1H
BEGIN:VTIMEZONE
TZID:America/Los_Angeles
BEGIN:DAYLIGHT
TZOFFSETFROM:-0800
TZOFFSETTO:-0700
TZNAME:PDT
DTSTART:20240310T100000
END:DAYLIGHT
BEGIN:STANDARD
TZOFFSETFROM:-0700
TZOFFSETTO:-0800
TZNAME:PST
DTSTART:20241103T090000
END:STANDARD
END:VTIMEZONE
BEGIN:VEVENT
DTSTART;TZID=America/Los_Angeles:20241103T170000
DTEND;TZID=America/Los_Angeles:20241103T190000
DTSTAMP:20260425T081427
CREATED:20241016T213528Z
LAST-MODIFIED:20241016T213617Z
UID:2996-1730653200-1730660400@uaws.org
SUMMARY:[:en]Слова війни: українська література як свідок і зцілення. Літературний вечір з Галиною Крук[:]
DESCRIPTION:Вибачте цей текст доступний тільки в “English”.
URL:https://uaws.org/ua/event/literary-evening-with-halyna-kruk/
LOCATION:Allen Auditorium at the University of Washington\, 4000 15th Ave NE\, Seattle\, WA\, 98105\, United States
CATEGORIES:Book Club,Poetry Reading
ATTACH;FMTTYPE=image/png:https://uaws.org/wp-content/uploads/2024/10/Halyna-Kruk-Ukr-3-IG.png
END:VEVENT
BEGIN:VEVENT
DTSTART;TZID=America/Los_Angeles:20240622T170000
DTEND;TZID=America/Los_Angeles:20240622T190000
DTSTAMP:20260425T081427
CREATED:20240531T062325Z
LAST-MODIFIED:20240531T062414Z
UID:2479-1719075600-1719082800@uaws.org
SUMMARY:[:en]Lovage Book Club: "Найдовша подорож" Оксана Забужко[:]
DESCRIPTION:Вибачте цей текст доступний тільки в “English”.
URL:https://uaws.org/ua/event/lovage-book-club-june-meeting/
LOCATION:Everest Park\, 500 8th St S\, Kirkland\, WA\, 98033\, United States
CATEGORIES:Book Club
ATTACH;FMTTYPE=image/jpeg:https://uaws.org/wp-content/uploads/2024/05/Червень-22.-Найдовша-Подорож.jpg
END:VEVENT
END:VCALENDAR