BEGIN:VCALENDAR
VERSION:2.0
PRODID:-//Ukrainian Association of Washington State - ECPv6.10.0//NONSGML v1.0//EN
CALSCALE:GREGORIAN
METHOD:PUBLISH
X-WR-CALNAME:Ukrainian Association of Washington State
X-ORIGINAL-URL:https://uaws.org/ua
X-WR-CALDESC:Events for Ukrainian Association of Washington State
REFRESH-INTERVAL;VALUE=DURATION:PT1H
X-Robots-Tag:noindex
X-PUBLISHED-TTL:PT1H
BEGIN:VTIMEZONE
TZID:America/Los_Angeles
BEGIN:DAYLIGHT
TZOFFSETFROM:-0800
TZOFFSETTO:-0700
TZNAME:PDT
DTSTART:20250309T100000
END:DAYLIGHT
BEGIN:STANDARD
TZOFFSETFROM:-0700
TZOFFSETTO:-0800
TZNAME:PST
DTSTART:20251102T090000
END:STANDARD
END:VTIMEZONE
BEGIN:VEVENT
DTSTART;TZID=America/Los_Angeles:20250302T140000
DTEND;TZID=America/Los_Angeles:20250302T160000
DTSTAMP:20260419T055011
CREATED:20250301T035127Z
LAST-MODIFIED:20250301T040737Z
UID:3476-1740924000-1740931200@uaws.org
SUMMARY:[:en]“Erase the Nation” is a documentary showing the destruction of Ukraine's cultural heritage by Russian Federation troops since the invasion began on February 24\, 2022[:]
DESCRIPTION:Вибачте цей текст доступний тільки в “English”.
URL:https://uaws.org/ua/event/erase-the-nation-is-a-documentary-showing-the-destruction-of-ukraines-cultural-heritage-by-russian-federation-troops-since-the-invasion-began-on-february-24-2022/
LOCATION:Polish Home Association\, 1714 18th Avenue\, Seattle\, WA\, 98122\, United States
CATEGORIES:Movie Screening
ATTACH;FMTTYPE=image/jpeg:https://uaws.org/wp-content/uploads/2025/02/Erase-square.jpg
END:VEVENT
END:VCALENDAR