BEGIN:VCALENDAR
VERSION:2.0
PRODID:-//Ukrainian Association of Washington State - ECPv6.10.0//NONSGML v1.0//EN
CALSCALE:GREGORIAN
METHOD:PUBLISH
X-WR-CALNAME:Ukrainian Association of Washington State
X-ORIGINAL-URL:https://uaws.org/ua
X-WR-CALDESC:Events for Ukrainian Association of Washington State
REFRESH-INTERVAL;VALUE=DURATION:PT1H
X-Robots-Tag:noindex
X-PUBLISHED-TTL:PT1H
BEGIN:VTIMEZONE
TZID:America/Los_Angeles
BEGIN:DAYLIGHT
TZOFFSETFROM:-0800
TZOFFSETTO:-0700
TZNAME:PDT
DTSTART:20240310T100000
END:DAYLIGHT
BEGIN:STANDARD
TZOFFSETFROM:-0700
TZOFFSETTO:-0800
TZNAME:PST
DTSTART:20241103T090000
END:STANDARD
END:VTIMEZONE
BEGIN:VEVENT
DTSTART;TZID=America/Los_Angeles:20240525T200000
DTEND;TZID=America/Los_Angeles:20240525T213000
DTSTAMP:20260424T181427
CREATED:20240531T064004Z
LAST-MODIFIED:20240531T064004Z
UID:2493-1716667200-1716672600@uaws.org
SUMMARY:[:en]Benefit Concert "Child's Dream – Peace" with Kyiv Classic Orchestra[:]
DESCRIPTION:Вибачте цей текст доступний тільки в “English”.
URL:https://uaws.org/ua/event/benefit-concert-childs-dream-peace-with-kyiv-classic-orchestra/
LOCATION:Illsley Ball Nordstrom Recital Hall – Benaroya Hall\, 200 University St\, Seattle\, WA\, 98101\, United States
CATEGORIES:Concert
ATTACH;FMTTYPE=image/png:https://uaws.org/wp-content/uploads/2024/04/Screenshot-2024-04-25-at-5.09.30-PM.png
END:VEVENT
END:VCALENDAR